BEGIN:VCALENDAR
VERSION:2.0
METHOD:PUBLISH
CALSCALE:GREGORIAN
BEGIN:VEVENT
UID:9b103f1f-d45a-4e22-830a-14aeb7527aad
SEQUENCE:0
CLASS:PUBLIC
PRIORITY:5
DTSTAMP:20260423T065448Z
CREATED:20260423T065448Z
DTSTART:20260422T150000Z
SUMMARY:Cérémonie civil  de Francine  GAUDRÉ
LOCATION:1251, Rue des Pimelin , 45770, SARAN  
BEGIN:VALARM
TRIGGER:-PT30M
ACTION:DISPLAY
DESCRIPTION:Reminder
END:VALARM
END:VEVENT
END:VCALENDAR
