BEGIN:VCALENDAR
VERSION:2.0
METHOD:PUBLISH
CALSCALE:GREGORIAN
BEGIN:VEVENT
UID:1293aa25-5da9-476e-8f2f-d71ba87b1f04
SEQUENCE:0
CLASS:PUBLIC
PRIORITY:5
DTSTAMP:20260423T065438Z
CREATED:20260423T065438Z
DTSTART:20260422T153000Z
SUMMARY:Crémation  de Francine  GAUDRÉ
LOCATION:1251, Rue de Pimelin, 45770, SARAN
BEGIN:VALARM
TRIGGER:-PT30M
ACTION:DISPLAY
DESCRIPTION:Reminder
END:VALARM
END:VEVENT
END:VCALENDAR
