BEGIN:VCALENDAR
VERSION:2.0
METHOD:PUBLISH
CALSCALE:GREGORIAN
BEGIN:VEVENT
UID:24d585bd-d904-4738-b297-c94fa527a73c
SEQUENCE:0
CLASS:PUBLIC
PRIORITY:5
DTSTAMP:20260423T065433Z
CREATED:20260423T065433Z
DTSTART:20260423T110000Z
SUMMARY:Inhumation d'urne  de Francine  GAUDRÉ
LOCATION:1, Rue de la Chapelle Saint Remy , 72450, LOMBRON 
BEGIN:VALARM
TRIGGER:-PT30M
ACTION:DISPLAY
DESCRIPTION:Reminder
END:VALARM
END:VEVENT
END:VCALENDAR
