BEGIN:VCALENDAR
VERSION:2.0
METHOD:PUBLISH
CALSCALE:GREGORIAN
BEGIN:VEVENT
UID:ac2f2391-96e5-481c-961b-3def48e68bc2
SEQUENCE:0
CLASS:PUBLIC
PRIORITY:5
DTSTAMP:20260423T065443Z
CREATED:20260423T065443Z
DTSTART:20260422T103000Z
SUMMARY:Cérémonie religieuse de Christian BOURIAUD
LOCATION:3-5 Pl. du Petit Cloître, 45150, JARGEAU
BEGIN:VALARM
TRIGGER:-PT30M
ACTION:DISPLAY
DESCRIPTION:Reminder
END:VALARM
END:VEVENT
END:VCALENDAR
