BEGIN:VCALENDAR
VERSION:2.0
METHOD:PUBLISH
CALSCALE:GREGORIAN
BEGIN:VEVENT
UID:77f1763a-6d11-4dbc-b277-650c43143a4f
SEQUENCE:0
CLASS:PUBLIC
PRIORITY:5
DTSTAMP:20260423T065458Z
CREATED:20260423T065458Z
DTSTART:20260423T143000Z
SUMMARY:Messe de funérailles de Yves LUBIN
LOCATION:13, rue Henri de Toulous-Lautrec, 45470, LOURY
BEGIN:VALARM
TRIGGER:-PT30M
ACTION:DISPLAY
DESCRIPTION:Reminder
END:VALARM
END:VEVENT
END:VCALENDAR
