BEGIN:VCALENDAR
VERSION:2.0
METHOD:PUBLISH
CALSCALE:GREGORIAN
BEGIN:VEVENT
UID:c63437bd-9534-48b6-88aa-41c34d2a4bda
SEQUENCE:0
CLASS:PUBLIC
PRIORITY:5
DTSTAMP:20260423T065503Z
CREATED:20260423T065503Z
DTSTART:20260423T160000Z
SUMMARY:Inhumation de Yves LUBIN
LOCATION:212, rue du parc, 45470, LOURY
BEGIN:VALARM
TRIGGER:-PT30M
ACTION:DISPLAY
DESCRIPTION:Reminder
END:VALARM
END:VEVENT
END:VCALENDAR
