BEGIN:VCALENDAR
VERSION:2.0
METHOD:PUBLISH
CALSCALE:GREGORIAN
BEGIN:VEVENT
UID:42d07da0-6d7b-4896-90a3-2a331d87c0f5
SEQUENCE:0
CLASS:PUBLIC
PRIORITY:5
DTSTAMP:20260423T103615Z
CREATED:20260423T103615Z
DTSTART:20260424T110000Z
SUMMARY:Inhumation de Janine LECOMTE née CLAIR
LOCATION:70, rue de la Cigogne, 45100, Orléans
BEGIN:VALARM
TRIGGER:-PT30M
ACTION:DISPLAY
DESCRIPTION:Reminder
END:VALARM
END:VEVENT
END:VCALENDAR
