BEGIN:VCALENDAR
VERSION:2.0
METHOD:PUBLISH
CALSCALE:GREGORIAN
BEGIN:VEVENT
UID:aea740db-2e9a-455f-9360-14c6685f1e91
SEQUENCE:0
CLASS:PUBLIC
PRIORITY:5
DTSTAMP:20260424T070440Z
CREATED:20260424T070440Z
DTSTART:20260430T140000Z
DTEND:20260430T150000Z
SUMMARY:Recueillement à l'hôpital de Élise PÉTERS
LOCATION:14, Avenue de l'Hôpital , 45100, Orléans
BEGIN:VALARM
TRIGGER:-PT30M
ACTION:DISPLAY
DESCRIPTION:Reminder
END:VALARM
END:VEVENT
END:VCALENDAR
