BEGIN:VCALENDAR
VERSION:2.0
METHOD:PUBLISH
CALSCALE:GREGORIAN
BEGIN:VEVENT
UID:e4a84472-1298-45da-bfb4-6ad68c5a0bb8
SEQUENCE:0
CLASS:PUBLIC
PRIORITY:5
DTSTAMP:20260423T105711Z
CREATED:20260423T105711Z
DTSTART:20260430T160000Z
SUMMARY:Inhumation au Grand cimetière d'Orléans de Élise PÉTERS
LOCATION:1, Boulevard Lamartine, 45000, Orléans
BEGIN:VALARM
TRIGGER:-PT30M
ACTION:DISPLAY
DESCRIPTION:Reminder
END:VALARM
END:VEVENT
END:VCALENDAR
