BEGIN:VCALENDAR
VERSION:2.0
METHOD:PUBLISH
CALSCALE:GREGORIAN
BEGIN:VEVENT
UID:dbd49186-6de1-4718-a6f1-38392146bb8e
SEQUENCE:0
CLASS:PUBLIC
PRIORITY:5
DTSTAMP:20260424T070445Z
CREATED:20260424T070445Z
DTSTART:20260429T110000Z
DTEND:20260429T113000Z
SUMMARY:Cérémonie au centre funéraire des Ifs de Saran de Marcel BAIZEAU
LOCATION:1251 Rue de Pimelin, 45770, Saran
BEGIN:VALARM
TRIGGER:-PT30M
ACTION:DISPLAY
DESCRIPTION:Reminder
END:VALARM
END:VEVENT
END:VCALENDAR
